BEGIN:VCALENDAR
VERSION:2.0
PRODID:-//Brevard County Medical Society - ECPv6.15.20//NONSGML v1.0//EN
CALSCALE:GREGORIAN
METHOD:PUBLISH
X-WR-CALNAME:Brevard County Medical Society
X-ORIGINAL-URL:https://www.brevardcms.org
X-WR-CALDESC:Events for Brevard County Medical Society
REFRESH-INTERVAL;VALUE=DURATION:PT1H
X-Robots-Tag:noindex
X-PUBLISHED-TTL:PT1H
BEGIN:VTIMEZONE
TZID:America/New_York
BEGIN:DAYLIGHT
TZOFFSETFROM:-0500
TZOFFSETTO:-0400
TZNAME:EDT
DTSTART:20230312T070000
END:DAYLIGHT
BEGIN:STANDARD
TZOFFSETFROM:-0400
TZOFFSETTO:-0500
TZNAME:EST
DTSTART:20231105T060000
END:STANDARD
BEGIN:DAYLIGHT
TZOFFSETFROM:-0500
TZOFFSETTO:-0400
TZNAME:EDT
DTSTART:20240310T070000
END:DAYLIGHT
BEGIN:STANDARD
TZOFFSETFROM:-0400
TZOFFSETTO:-0500
TZNAME:EST
DTSTART:20241103T060000
END:STANDARD
BEGIN:DAYLIGHT
TZOFFSETFROM:-0500
TZOFFSETTO:-0400
TZNAME:EDT
DTSTART:20250309T070000
END:DAYLIGHT
BEGIN:STANDARD
TZOFFSETFROM:-0400
TZOFFSETTO:-0500
TZNAME:EST
DTSTART:20251102T060000
END:STANDARD
END:VTIMEZONE
BEGIN:VEVENT
DTSTART;TZID=America/New_York:20240808T183000
DTEND;TZID=America/New_York:20240808T203000
DTSTAMP:20260421T190858
CREATED:20240716T232229Z
LAST-MODIFIED:20240716T232528Z
UID:31660-1723141800-1723149000@www.brevardcms.org
SUMMARY:Empowering Physicians: Financing to Start\, Buy\, acquire\, or Expand Your Medical Practice
DESCRIPTION:RSVP Today!\n\n\n  \n\n\n\nYour Name (required)\n \n\n \nYour Email (required)\n \n\n \nPlease leave this field empty.\n \n\n Δ
URL:https://www.brevardcms.org/event/empowering-physicians-financing-to-start-buy-acquire-or-expand-your-medical-practice/
LOCATION:Cypress Bank & Trust\, 6115 N Wickham Rd\, Melbourne\, FL\, 32940\, United States
ORGANIZER;CN="Brevard County Medical Society":MAILTO:exec@brevardcms.org
END:VEVENT
END:VCALENDAR